BEGIN:VCALENDAR
VERSION:2.0
PRODID:-//SV Londorf 1969 e.V. - ECPv6.15.20//NONSGML v1.0//EN
CALSCALE:GREGORIAN
METHOD:PUBLISH
X-ORIGINAL-URL:https://sv-londorf.de
X-WR-CALDESC:Veranstaltungen für SV Londorf 1969 e.V.
REFRESH-INTERVAL;VALUE=DURATION:PT1H
X-Robots-Tag:noindex
X-PUBLISHED-TTL:PT1H
BEGIN:VTIMEZONE
TZID:Europe/Berlin
BEGIN:DAYLIGHT
TZOFFSETFROM:+0100
TZOFFSETTO:+0200
TZNAME:CEST
DTSTART:20240331T010000
END:DAYLIGHT
BEGIN:STANDARD
TZOFFSETFROM:+0200
TZOFFSETTO:+0100
TZNAME:CET
DTSTART:20241027T010000
END:STANDARD
BEGIN:DAYLIGHT
TZOFFSETFROM:+0100
TZOFFSETTO:+0200
TZNAME:CEST
DTSTART:20250330T010000
END:DAYLIGHT
BEGIN:STANDARD
TZOFFSETFROM:+0200
TZOFFSETTO:+0100
TZNAME:CET
DTSTART:20251026T010000
END:STANDARD
BEGIN:DAYLIGHT
TZOFFSETFROM:+0100
TZOFFSETTO:+0200
TZNAME:CEST
DTSTART:20260329T010000
END:DAYLIGHT
BEGIN:STANDARD
TZOFFSETFROM:+0200
TZOFFSETTO:+0100
TZNAME:CET
DTSTART:20261025T010000
END:STANDARD
END:VTIMEZONE
BEGIN:VEVENT
DTSTART;TZID=Europe/Berlin:20250305T193000
DTEND;TZID=Europe/Berlin:20250305T213000
DTSTAMP:20260425T131405
CREATED:20241117T203542Z
LAST-MODIFIED:20241117T204330Z
UID:2646-1741203000-1741210200@sv-londorf.de
SUMMARY:Sachkundelehrgang in Schützenhaus\, Londorf (*Info bitte anklicken)
DESCRIPTION:Lehrgang vom 05.Februar bis 05. März 2025 \nSchulung jeweils Mittwoch Abend ab 19.30 Uhr\, 5 Abende \nIm Schützenhaus Londorf\, 05.02.\, 12.02.\, 19.02.\, 26.02 und 05.03. \nPrüfung am Samstag\, 08. März 2025 \,  09.00 Uhr \nDer Lehrgang wird ab mindestens 6 Teilnehmern durchgeführt\, maximale Teilnehmerzahl 14\, Mindestalter 17 Jahre. \n  \nLehrgangsgebühr 110\,- €\, zu entrichten am ersten Schulungsabend \nLehrgangsunterlagen werden ebenfalls am ersten Schulungsabend ausgehändigt. \n  \nTeilnehmer die das 18. Lebensjahr noch nicht vollendet haben\, benötigen für die Teilnahme an dem Lehrgang zum Umgang und Schießen mit großkalibrigen Schusswaffen eine Ausnahmegenehmigung der Ordnungsbehörde(Waffenbehörde) beim Landratsamt \n–   rechtzeitig beantragen\, Bearbeitungsdauermehrere Wochen !! \nSowie die schriftliche Einverständniserklärung der Erziehungsberechtigten. \n  \nDie Lehrgangsteilnehmer müssen Mitglied in einem Schützenverein sein\, der dem Hessischen Schützenverband angegliedert ist. \nAnmeldungen werden ab sofort entgegengenommen. \nAnmeldungen an: Reinhold Löffler\, SV Londorf unter Tel:   06407-8486 oder unter „rmloeffler@freenet.de“
URL:https://sv-londorf.de/event/sachkundelehrgang-in-schuetzenhaus-londorf/
LOCATION:SV Londorf e.V.\, An der Speckwiese\, Londorf\, 35466
END:VEVENT
BEGIN:VEVENT
DTSTART;TZID=Europe/Berlin:20250308T090000
DTEND;TZID=Europe/Berlin:20250308T130000
DTSTAMP:20260425T131405
CREATED:20241117T203807Z
LAST-MODIFIED:20241117T204252Z
UID:2650-1741424400-1741438800@sv-londorf.de
SUMMARY:„Sachkundeprüfung“ Abnahme im Schützenhaus Londorf (*Info bitte anklicken)
DESCRIPTION:Lehrgang vom 05.Februar bis 05. März 2025 \nSchulung jeweils Mittwoch Abend ab 19.30 Uhr\, 5 Abende \nIm Schützenhaus Londorf\, 05.02.\, 12.02.\, 19.02.\, 26.02 und 05.03. \nPrüfung am Samstag\, 08. März 2025 \,  09.00 Uhr \nDer Lehrgang wird ab mindestens 6 Teilnehmern durchgeführt\, maximale Teilnehmerzahl 14\, Mindestalter 17 Jahre. \n  \nLehrgangsgebühr 110\,- €\, zu entrichten am ersten Schulungsabend \nLehrgangsunterlagen werden ebenfalls am ersten Schulungsabend ausgehändigt. \n  \nTeilnehmer die das 18. Lebensjahr noch nicht vollendet haben\, benötigen für die Teilnahme an dem Lehrgang zum Umgang und Schießen mit großkalibrigen Schusswaffen eine Ausnahmegenehmigung der Ordnungsbehörde(Waffenbehörde) beim Landratsamt \n–   rechtzeitig beantragen\, Bearbeitungsdauermehrere Wochen !! \nSowie die schriftliche Einverständniserklärung der Erziehungsberechtigten. \n  \nDie Lehrgangsteilnehmer müssen Mitglied in einem Schützenverein sein\, der dem Hessischen Schützenverband angegliedert ist. \nAnmeldungen werden ab sofort entgegengenommen. \nAnmeldungen an: Reinhold Löffler\, SV Londorf unter Tel:   06407-8486 oder unter „rmloeffler@freenet.de“
URL:https://sv-londorf.de/event/sachkundepruefung-abnahme-im-schuetzenhaus-londorf/
LOCATION:SV Londorf e.V.\, An der Speckwiese\, Londorf\, 35466
END:VEVENT
END:VCALENDAR