BEGIN:VCALENDAR
VERSION:2.0
PRODID:-//SV Londorf 1969 e.V. - ECPv6.15.20//NONSGML v1.0//EN
CALSCALE:GREGORIAN
METHOD:PUBLISH
X-WR-CALNAME:SV Londorf 1969 e.V.
X-ORIGINAL-URL:https://sv-londorf.de
X-WR-CALDESC:Veranstaltungen für SV Londorf 1969 e.V.
REFRESH-INTERVAL;VALUE=DURATION:PT1H
X-Robots-Tag:noindex
X-PUBLISHED-TTL:PT1H
BEGIN:VTIMEZONE
TZID:Europe/Berlin
BEGIN:DAYLIGHT
TZOFFSETFROM:+0100
TZOFFSETTO:+0200
TZNAME:CEST
DTSTART:20240331T010000
END:DAYLIGHT
BEGIN:STANDARD
TZOFFSETFROM:+0200
TZOFFSETTO:+0100
TZNAME:CET
DTSTART:20241027T010000
END:STANDARD
BEGIN:DAYLIGHT
TZOFFSETFROM:+0100
TZOFFSETTO:+0200
TZNAME:CEST
DTSTART:20250330T010000
END:DAYLIGHT
BEGIN:STANDARD
TZOFFSETFROM:+0200
TZOFFSETTO:+0100
TZNAME:CET
DTSTART:20251026T010000
END:STANDARD
BEGIN:DAYLIGHT
TZOFFSETFROM:+0100
TZOFFSETTO:+0200
TZNAME:CEST
DTSTART:20260329T010000
END:DAYLIGHT
BEGIN:STANDARD
TZOFFSETFROM:+0200
TZOFFSETTO:+0100
TZNAME:CET
DTSTART:20261025T010000
END:STANDARD
END:VTIMEZONE
BEGIN:VEVENT
DTSTART;TZID=Europe/Berlin:20250503T090000
DTEND;TZID=Europe/Berlin:20250504T150000
DTSTAMP:20260426T043338
CREATED:20241007T081556Z
LAST-MODIFIED:20241007T083407Z
UID:2546-1746262800-1746370800@sv-londorf.de
SUMMARY:Bezirksmeisterschaft KK Sportgewehr (2025)
DESCRIPTION:Disziplin 1.40. / KK Sportgewehr \nEin Vorschießen oder Qualifikationsschießen ist nur noch nach Sportordnung 0.9.4 oder 0.9.4.1 möglich bitte um Beachtung.
URL:https://sv-londorf.de/event/bezirksmeisterschaft-kk-sportgewehr-2025/
LOCATION:Schützenverein Annerod\, Erfurter Straße 4\, Fernwald\, 35463
END:VEVENT
BEGIN:VEVENT
DTSTART;TZID=Europe/Berlin:20250503T090000
DTEND;TZID=Europe/Berlin:20250504T150000
DTSTAMP:20260426T043338
CREATED:20241007T081753Z
LAST-MODIFIED:20241007T083327Z
UID:2549-1746262800-1746370800@sv-londorf.de
SUMMARY:Bezirksmeisterschaft KK liegend 60 Schuss (2025)
DESCRIPTION:Disziplin 1.80. / KK liegend 60 Schuss \n  \nEin Vorschießen oder Qualifikationsschießen ist nur noch nach Sportordnung 0.9.4 oder 0.9.4.1 möglich bitte um Beachtung.
URL:https://sv-londorf.de/event/bezirksmeisterschaft-kk-liegend-60-schuss-2025/
LOCATION:Schützenverein Annerod\, Erfurter Straße 4\, Fernwald\, 35463
END:VEVENT
END:VCALENDAR