BEGIN:VCALENDAR
VERSION:2.0
PRODID:-//SV Londorf 1969 e.V. - ECPv6.15.20//NONSGML v1.0//EN
CALSCALE:GREGORIAN
METHOD:PUBLISH
X-ORIGINAL-URL:https://sv-londorf.de
X-WR-CALDESC:Veranstaltungen für SV Londorf 1969 e.V.
REFRESH-INTERVAL;VALUE=DURATION:PT1H
X-Robots-Tag:noindex
X-PUBLISHED-TTL:PT1H
BEGIN:VTIMEZONE
TZID:Europe/Berlin
BEGIN:DAYLIGHT
TZOFFSETFROM:+0100
TZOFFSETTO:+0200
TZNAME:CEST
DTSTART:20240331T010000
END:DAYLIGHT
BEGIN:STANDARD
TZOFFSETFROM:+0200
TZOFFSETTO:+0100
TZNAME:CET
DTSTART:20241027T010000
END:STANDARD
BEGIN:DAYLIGHT
TZOFFSETFROM:+0100
TZOFFSETTO:+0200
TZNAME:CEST
DTSTART:20250330T010000
END:DAYLIGHT
BEGIN:STANDARD
TZOFFSETFROM:+0200
TZOFFSETTO:+0100
TZNAME:CET
DTSTART:20251026T010000
END:STANDARD
BEGIN:DAYLIGHT
TZOFFSETFROM:+0100
TZOFFSETTO:+0200
TZNAME:CEST
DTSTART:20260329T010000
END:DAYLIGHT
BEGIN:STANDARD
TZOFFSETFROM:+0200
TZOFFSETTO:+0100
TZNAME:CET
DTSTART:20261025T010000
END:STANDARD
END:VTIMEZONE
BEGIN:VEVENT
DTSTART;TZID=Europe/Berlin:20251101T100000
DTEND;TZID=Europe/Berlin:20251101T160000
DTSTAMP:20260425T220525
CREATED:20250729T105219Z
LAST-MODIFIED:20250729T110542Z
UID:2880-1761991200-1762012800@sv-londorf.de
SUMMARY:3. Termin Vorderlader Runde 2025 /2026 in Usingen (*auch 100m möglich)
DESCRIPTION:Ladschreiben:\nAn alle Freunde des schwarzen Pulvers\, es wurde Folgendes festgelegt und beschlossen:\nTeilnehmen kann jeder Schütze\, der Spaß am Schießen mit dem schwarzen Pulver hat… \nEs wird 6 Schießtermine geben. (27.09.2025; 11.10.2025; 01.11.2025; 28.02.2026; 28.03.2026; 25.04.2026)\nDer Wettkampfbeginn wurde auf jeweils 10:00 Uhr festgelegt. Letzter Start: 16:00 Uhr (maximal auf offenen Ständen)\nIn Usingen\, Lich\, Etti-See und Gießen können 100m Disziplinen geschossen werden. \nDer Abschluss der Runde 2025/2026 wird im Ettingshäuser Schützenhaus am 09.05.2026\, ab 19:00 Uhr\, mit Pokalübergabe der Disziplinen und der Überreichung des J.Glessmer-Wanderpokals stattfinden. Die Partner können gegen jeweiligen Unkostenbeitrag von 15\,-€ gerne mitgebracht werden. \nStartgeld pro Person und Tag: 6\,00€ für die erste Disziplin\,\nfür jede weitere Disziplin sind zusätzlich 1\,50€ zu entrichten: \nTraditionskleidung ist erwünscht und wird gern gesehen\, aber sicherheitsrelevante Maßnahmen\, wie z.B. Augenschutzblende oder Schutzbrille sind unbedingt erforderlich! Die Anmeldung wird die gültige Sprengstofferlaubnis (§27 ) überprüfen. \nRegelwerk:\nEs wird in Anlehnung an die Sportordnung des DSB geschossen\, Probeschüsse und 15 Wertungsschüsse.\nEs sollte nur einmal „Nachgeschossen und / oder Vorgeschossen“ werden. Die Auswertemannschaft bitte unbedingt darüber informieren. Von den 6 Wettkämpfen kommen die besten 5 Wettkämpfe zur Wertung. Nur bei Ringgleichheit werden die Streichergebnisse mit gewertet. \nZur Mannschaftswertung Neu oder Alt…\nSpätestens ab dem 2. Termin müssen die Mannschaften schriftlich gemeldet werden. Diese sind dann für die Runde fest. Ein Schütze darf pro Disziplin nur in einer Mannschaft starten. Eine Mannschaft besteht aus 3 Schützen. ich hier gehen von den 6 Wettkämpfen die besten 5 in die Wertung. \nMögliche Disziplinen sind:\nGewehr\, Steinschlossgewehr\, Dienstgewehr 50m\, Pistole\, Revolver\, Dienstgewehr 100m\, Freigewehr 100m\, Gewehr sitzend/stehend aufgelegt\, Vorderlader …. offene Visieren 50m Wanderpokal. \nDiese Runde neu im Angebot: Steini Gewehr / Freigewehr… \nWeitere Modalitäten:\nDie Standaufsichten\, sowie die erforderlichen Scheiben\, stellt der jeweilige gastgebende Verein.\nEr lädt zu dem Freundschaftsschießen schriftlich ein und ihm werden pro Scheibe 1\,00€ erstattet. \nAuflageschützen: Stühle für sitzenden Anschlag sind mitzubringen. Für stehenden Anschlag ist das Gestell selbst mitzubringen oder vorhandene zu verwenden.\nDer Ladestock darf entfernt werden. Auflageschießen bleibt Einzelwertung. \nJochen Glessmer Wanderpokal\nwird im 13 Schuss Modus\, auf zwei\, vorher bei dem Anmeldeteam gemeldeten Scheiben\, geschossen.\nAn dem der Termine ist dies möglich\, aber insgesamt nur einmal. Es dürfen alle Vorderlader mit offener Visieren auf 50m geschossen werden. Der Wanderpokal wird an der Abschlussveranstaltung verliehen. \nAnsprechpartner:\nAnke Mönicke: 0172/6775236 … moenicke.a@outlook.de\nPia Hamel: 0171/5335952 … berg-pia@t-online.de
URL:https://sv-londorf.de/event/vorderlader-runde-2025-2026-auch-100m-moeglich/
LOCATION:Schützenverein 1422 Usingen e.V.\, Zum Steinhöhlchen\, Usingen\, Hessen\, 61250\, Germany
END:VEVENT
BEGIN:VEVENT
DTSTART;TZID=Europe/Berlin:20251107T170000
DTEND;TZID=Europe/Berlin:20251107T220000
DTSTAMP:20260425T220525
CREATED:20250727T130949Z
LAST-MODIFIED:20250727T130949Z
UID:2869-1762534800-1762552800@sv-londorf.de
SUMMARY:4.WK Unterhebel- Großkaliber Kurzwaffenrunde
DESCRIPTION:Ausschreibung Unterhebel und Großkaliber-Kurzwaffenrunde 2025 \nLiebe Freunde des Schießsports\, \nin diesem Jahr werden wir zu den nachfolgenden Terminen eine \nUnterhebelrepetierer und Großkaliberkurzwaffen Runde anbieten. \nAlle Termine finden auf den Ständen des Schützenverein Londorf wie folgt statt: \n26.09.; 10.10.; 24.10.; 07.11.und 21.11.2025 jeweils ab 17.00 \nUhr. \nSiegerehrung am 05.12.2025 um 19.30 Uhr im Schützenhaus Londorf. \nReglement Unterhebel und Großkaliber: \n1. Es gelten die Regeln der Schießstand- und Sportordnung des Deutschen \nSchützenbundes. \n2. Die Runde findet an 5 Wettkampftagen statt\, wobei die 4 besten Wettkämpfe \nin die Wertungen kommen. \n3. Startberechtigt ist jeder\, der die Sachkunde besitzt und von der Schießleitung \nzugelassen wird. \n4. Vor dem Start ist bei Anmeldung zu melden: Einzelwertung und /oder \nMannschaftswertung\, die Starts und die Kaliber. \n5. Ein Verein kann mehrere Mannschaften melden\, nach dem 1. Start ist ein \nAustausch der Schützen zwischen den Mannschaften nicht mehr möglich. Bei \nAusfall ist Ersatz nach gleichen Bedingungen möglich. \nEine Mannschaft besteht aus 3 Schützen. \nDer Schütze hat die Möglichkeit\, nach seiner Wahl einen Wettkampf unter \nAufsicht\, vor oder nach zu schießen\, Anmeldung bei Pia Hamel\, Anke \nMönicke oder Hans- Georg Zientek. \n8. Der ausführende Verein stellt geeignetes Personal für Aufsicht\, \nAuswertung und Durchführung der Wettkämpfe zur Verfügung. Von jedem \nteilnehmenden Verein ist am Abend eine Aufsicht / Helfer zu stellen. \nEs werden in verschiedenen Durchgängen Waffen- und Munitionskontrollen \nper Entscheid der Schießleitung durchgeführt. \nStartgeld beträgt pro Start 6. \n– € und wird beim ersten Start (30. \n-€) komplett \nerhoben. Startgelder werden bei Abbruch aus persönlichen Gründen nicht \nerstattet. \nTeilnehmer für beide Runden (UHR und GK) zahlen zusammen 40\,00 Euro. \n6. 7. 9. Im Startgeld ist das Essen am Abschlussabend enthalten. Partner (nicht aktive \nTeilnehmer) zahlen 15 Euro. Getränke werden für alle separat berechnet. \nReglement Unterhebel: \n1. 2. 3. 4. 5. Zugelassene Kaliber: Zentralfeuer Patronen wie 38 spez.\, .357 Mag.\, \n44 Mag.\, und 45 Colt\, 30/30 Win.\, usw. \n5 Patronen müssen in das Magazin passen. \nAn einem Wettkampftag sind mit dem gleichen Kaliber nur 2 Starts möglich. \nEs wird auf DSB-Scheibe Nr. 4 geschossen. \n6. Schusszahl: 5 Schuss Probe; \n3 mal 5 Schuss in je 120 Sekunden stehend; \n3 mal 5 Schuss in je 120 Sekunden kniend \n7. Diopter sind nicht erlaubt\, nur offene Visierung. \n8. Einzelwertung: Plätze 1 bis 3 \n9. Mannschaftswertung: Plätze 1 bis 3. \n10. Es werden ein KK sowie ein Damenpokal (bei Interesse und mind. \n3 Teilnehmern pro Sparte) ausgeschossen. \n11. Auswertung findet nur im Auswertraum statt \n12. Traditionskleidung erwünscht. Schießkleidung ist nicht erlaubt. \nReglement Großkaliber: \n1. Zugelassene Kaliber: 9mm Para\, .357 Mag\, 45 ACP\, 44 Magnum bis max. \n1500 Joule. \n2. An einem Wettkampftag darf der Schütze nur eine Waffenart wählen. \nPatronen .38 Spezial und .44 Spezial sind nicht zugelassen und führen zu \neiner Disqualifikation. \n3. Es wird auf DSB-Scheiben \n4. Nr. 4 Präzision: \n5. 5 Schuss Probe \n6. 3 mal 5 Schuss in je 150 Sekunden und \n7. Nr.10 Duell: \n8. 3 mal 5 Schuss in je 20 Sekunden geschossen. \n9. Einzelwertung: Plätze 1-3 \n10. Mannschaftswertung: Plätze 1-3 \n11. Auswertung findet nur im Auswertraum statt. \nFragen\, Anmeldungen\, Vor- Nachschießen bitte an: \nPia Hamel\, E-Mail: berg-pia@t-online.de oder Tel. 0171 / 5335952 \nAnke Mönicke\, E-Mail: Moenicke.a@outlook.de oder Tel.: 0172 / 6775236 \nMit freundlichem Schützengruß
URL:https://sv-londorf.de/event/4-wk-unterhebel-grosskaliber-kurzwaffenrunde/
LOCATION:Schützenhaus Londorf\, Speckwiese 9\, Londorf\, 35466\, Deutschland
END:VEVENT
BEGIN:VEVENT
DTSTART;TZID=Europe/Berlin:20251108T190000
DTEND;TZID=Europe/Berlin:20251108T190000
DTSTAMP:20260425T220525
CREATED:20250729T110910Z
LAST-MODIFIED:20251011T121631Z
UID:2897-1762628400-1762628400@sv-londorf.de
SUMMARY:Bezirksschützenball in Langgöns
DESCRIPTION:Bitte um rechtzeitige Anmeldung bei dem Vorstand des SV Londorf\, wer an der Veranstaltung teilnimmt und zum Bezirksschützenball nach Langgöns mitfährt. \nDer Termin auf der Einladung des SV\, Langgöns\, 9.11.2025\, ist dort fehlerhaft eingetragen worden und wurde nachträglich auf den 8.11.2025 korrigiert \n  \nScreenshot
URL:https://sv-londorf.de/event/bezirksschuetzenball-in-langgoens/
LOCATION:Bürgerhaus Langgöns\, Am alten Stück 3\, Langgöns
END:VEVENT
BEGIN:VEVENT
DTSTART;TZID=Europe/Berlin:20251115T190000
DTEND;TZID=Europe/Berlin:20251115T220000
DTSTAMP:20260425T220525
CREATED:20250418T102338Z
LAST-MODIFIED:20251026T152354Z
UID:2810-1763233200-1763244000@sv-londorf.de
SUMMARY:!!JETZT VORBESTELLEN!!  Forellenessen des ASV „Petri Heil“ Rabenau 1977 e.V. im Schützenhaus Londorf
DESCRIPTION:Forellenessen \nSeid herzlich Willkommen\nLust auf eine leckere fangfrische geräucherte Forelle? Dann seid ihr bei uns genau richtig!\nWir der ASV ‚ Petri Heil’ Rabenau 1977e.V.\nräuchern am 15.11.2024 frische Forellen! Vorbestellung bis 05.11.24\nRäucherforellen können bereits zur Mittagszeit bei uns am See in Deckenbach abgeholt werden. Ihr wisst nicht\, wo ihr uns findet?\noder ihr kommt am 15.11.25\, ab 19:00h\, Schützenhaus Londorf zum gemeinsamen Forellenessen!\nVorbestellungen werden ab sofort persönlich im Schützenhaus oder unter\n(06407) 950216\nentgegen genommen!\nUm besser planen zu können\, bitten wir Euch bei Interesse J E T Z T schon um Vorbestellung! \n 
URL:https://sv-londorf.de/event/forellenessen-des-asv-petri-heil-rabenau-1977-e-v-im-schuetzenhaus-londorf/
LOCATION:Schützenhaus Londorf\, Speckwiese 9\, Londorf\, 35466\, Deutschland
END:VEVENT
BEGIN:VEVENT
DTSTART;TZID=Europe/Berlin:20251121T170000
DTEND;TZID=Europe/Berlin:20251121T220000
DTSTAMP:20260425T220525
CREATED:20250727T131123Z
LAST-MODIFIED:20250727T131123Z
UID:2871-1763744400-1763762400@sv-londorf.de
SUMMARY:5.WK Unterhebel- Großkaliber Kurzwaffenrunde
DESCRIPTION:Ausschreibung Unterhebel und Großkaliber-Kurzwaffenrunde 2025 \nLiebe Freunde des Schießsports\, \nin diesem Jahr werden wir zu den nachfolgenden Terminen eine \nUnterhebelrepetierer und Großkaliberkurzwaffen Runde anbieten. \nAlle Termine finden auf den Ständen des Schützenverein Londorf wie folgt statt: \n26.09.; 10.10.; 24.10.; 07.11.und 21.11.2025 jeweils ab 17.00 \nUhr. \nSiegerehrung am 05.12.2025 um 19.30 Uhr im Schützenhaus Londorf. \nReglement Unterhebel und Großkaliber: \n1. Es gelten die Regeln der Schießstand- und Sportordnung des Deutschen \nSchützenbundes. \n2. Die Runde findet an 5 Wettkampftagen statt\, wobei die 4 besten Wettkämpfe \nin die Wertungen kommen. \n3. Startberechtigt ist jeder\, der die Sachkunde besitzt und von der Schießleitung \nzugelassen wird. \n4. Vor dem Start ist bei Anmeldung zu melden: Einzelwertung und /oder \nMannschaftswertung\, die Starts und die Kaliber. \n5. Ein Verein kann mehrere Mannschaften melden\, nach dem 1. Start ist ein \nAustausch der Schützen zwischen den Mannschaften nicht mehr möglich. Bei \nAusfall ist Ersatz nach gleichen Bedingungen möglich. \nEine Mannschaft besteht aus 3 Schützen. \nDer Schütze hat die Möglichkeit\, nach seiner Wahl einen Wettkampf unter \nAufsicht\, vor oder nach zu schießen\, Anmeldung bei Pia Hamel\, Anke \nMönicke oder Hans- Georg Zientek. \n8. Der ausführende Verein stellt geeignetes Personal für Aufsicht\, \nAuswertung und Durchführung der Wettkämpfe zur Verfügung. Von jedem \nteilnehmenden Verein ist am Abend eine Aufsicht / Helfer zu stellen. \nEs werden in verschiedenen Durchgängen Waffen- und Munitionskontrollen \nper Entscheid der Schießleitung durchgeführt. \nStartgeld beträgt pro Start 6. \n– € und wird beim ersten Start (30. \n-€) komplett \nerhoben. Startgelder werden bei Abbruch aus persönlichen Gründen nicht \nerstattet. \nTeilnehmer für beide Runden (UHR und GK) zahlen zusammen 40\,00 Euro. \n6. 7. 9. Im Startgeld ist das Essen am Abschlussabend enthalten. Partner (nicht aktive \nTeilnehmer) zahlen 15 Euro. Getränke werden für alle separat berechnet. \nReglement Unterhebel: \n1. 2. 3. 4. 5. Zugelassene Kaliber: Zentralfeuer Patronen wie 38 spez.\, .357 Mag.\, \n44 Mag.\, und 45 Colt\, 30/30 Win.\, usw. \n5 Patronen müssen in das Magazin passen. \nAn einem Wettkampftag sind mit dem gleichen Kaliber nur 2 Starts möglich. \nEs wird auf DSB-Scheibe Nr. 4 geschossen. \n6. Schusszahl: 5 Schuss Probe; \n3 mal 5 Schuss in je 120 Sekunden stehend; \n3 mal 5 Schuss in je 120 Sekunden kniend \n7. Diopter sind nicht erlaubt\, nur offene Visierung. \n8. Einzelwertung: Plätze 1 bis 3 \n9. Mannschaftswertung: Plätze 1 bis 3. \n10. Es werden ein KK sowie ein Damenpokal (bei Interesse und mind. \n3 Teilnehmern pro Sparte) ausgeschossen. \n11. Auswertung findet nur im Auswertraum statt \n12. Traditionskleidung erwünscht. Schießkleidung ist nicht erlaubt. \nReglement Großkaliber: \n1. Zugelassene Kaliber: 9mm Para\, .357 Mag\, 45 ACP\, 44 Magnum bis max. \n1500 Joule. \n2. An einem Wettkampftag darf der Schütze nur eine Waffenart wählen. \nPatronen .38 Spezial und .44 Spezial sind nicht zugelassen und führen zu \neiner Disqualifikation. \n3. Es wird auf DSB-Scheiben \n4. Nr. 4 Präzision: \n5. 5 Schuss Probe \n6. 3 mal 5 Schuss in je 150 Sekunden und \n7. Nr.10 Duell: \n8. 3 mal 5 Schuss in je 20 Sekunden geschossen. \n9. Einzelwertung: Plätze 1-3 \n10. Mannschaftswertung: Plätze 1-3 \n11. Auswertung findet nur im Auswertraum statt. \nFragen\, Anmeldungen\, Vor- Nachschießen bitte an: \nPia Hamel\, E-Mail: berg-pia@t-online.de oder Tel. 0171 / 5335952 \nAnke Mönicke\, E-Mail: Moenicke.a@outlook.de oder Tel.: 0172 / 6775236 \nMit freundlichem Schützengruß
URL:https://sv-londorf.de/event/5-wk-unterhebel-grosskaliber-kurzwaffenrunde/
LOCATION:Schützenhaus Londorf\, Speckwiese 9\, Londorf\, 35466\, Deutschland
END:VEVENT
END:VCALENDAR