BEGIN:VCALENDAR
VERSION:2.0
PRODID:-//SV Londorf 1969 e.V. - ECPv6.15.20//NONSGML v1.0//EN
CALSCALE:GREGORIAN
METHOD:PUBLISH
X-ORIGINAL-URL:https://sv-londorf.de
X-WR-CALDESC:Veranstaltungen für SV Londorf 1969 e.V.
REFRESH-INTERVAL;VALUE=DURATION:PT1H
X-Robots-Tag:noindex
X-PUBLISHED-TTL:PT1H
BEGIN:VTIMEZONE
TZID:Europe/Berlin
BEGIN:DAYLIGHT
TZOFFSETFROM:+0100
TZOFFSETTO:+0200
TZNAME:CEST
DTSTART:20250330T010000
END:DAYLIGHT
BEGIN:STANDARD
TZOFFSETFROM:+0200
TZOFFSETTO:+0100
TZNAME:CET
DTSTART:20251026T010000
END:STANDARD
BEGIN:DAYLIGHT
TZOFFSETFROM:+0100
TZOFFSETTO:+0200
TZNAME:CEST
DTSTART:20260329T010000
END:DAYLIGHT
BEGIN:STANDARD
TZOFFSETFROM:+0200
TZOFFSETTO:+0100
TZNAME:CET
DTSTART:20261025T010000
END:STANDARD
BEGIN:DAYLIGHT
TZOFFSETFROM:+0100
TZOFFSETTO:+0200
TZNAME:CEST
DTSTART:20270328T010000
END:DAYLIGHT
BEGIN:STANDARD
TZOFFSETFROM:+0200
TZOFFSETTO:+0100
TZNAME:CET
DTSTART:20271031T010000
END:STANDARD
END:VTIMEZONE
BEGIN:VEVENT
DTSTART;TZID=Europe/Berlin:20260131T000000
DTEND;TZID=Europe/Berlin:20260131T235959
DTSTAMP:20260423T163423
CREATED:20250922T180336Z
LAST-MODIFIED:20250925T222030Z
UID:2909-1769817600-1769903999@sv-londorf.de
SUMMARY:Winterwanderung SV Londorf nach Staufenberg/Mainzlar - Gasthaus „Zum Schwanen“
DESCRIPTION:Der Vorstand freut sich bekannt geben zu dürfen\, dass für den 31.01.2026\, ab 17:00 Uhr\, in der Gaststätte „Zum Schwanen“ in Mainzlar 20 Plätze für die Teilnehmer der Winterwanderung reserviert werden konnten. \nEs wird gebeten sich rechtzeitig anzumelden. \nDie genaue Abmarschzeit und Wanderroute wird noch bekannt gegeben\, wenn diese feststeht. \n 
URL:https://sv-londorf.de/event/winterwanderung-sv-londorf-details-werden-noch-bekannt-gegeben/
LOCATION:SV Londorf e.V.\, An der Speckwiese\, Londorf\, 35466
END:VEVENT
END:VCALENDAR