BEGIN:VCALENDAR
VERSION:2.0
PRODID:-//SV Londorf 1969 e.V. - ECPv6.15.20//NONSGML v1.0//EN
CALSCALE:GREGORIAN
METHOD:PUBLISH
X-ORIGINAL-URL:https://sv-londorf.de
X-WR-CALDESC:Veranstaltungen für SV Londorf 1969 e.V.
REFRESH-INTERVAL;VALUE=DURATION:PT1H
X-Robots-Tag:noindex
X-PUBLISHED-TTL:PT1H
BEGIN:VTIMEZONE
TZID:Europe/Berlin
BEGIN:DAYLIGHT
TZOFFSETFROM:+0100
TZOFFSETTO:+0200
TZNAME:CEST
DTSTART:20250330T010000
END:DAYLIGHT
BEGIN:STANDARD
TZOFFSETFROM:+0200
TZOFFSETTO:+0100
TZNAME:CET
DTSTART:20251026T010000
END:STANDARD
BEGIN:DAYLIGHT
TZOFFSETFROM:+0100
TZOFFSETTO:+0200
TZNAME:CEST
DTSTART:20260329T010000
END:DAYLIGHT
BEGIN:STANDARD
TZOFFSETFROM:+0200
TZOFFSETTO:+0100
TZNAME:CET
DTSTART:20261025T010000
END:STANDARD
BEGIN:DAYLIGHT
TZOFFSETFROM:+0100
TZOFFSETTO:+0200
TZNAME:CEST
DTSTART:20270328T010000
END:DAYLIGHT
BEGIN:STANDARD
TZOFFSETFROM:+0200
TZOFFSETTO:+0100
TZNAME:CET
DTSTART:20271031T010000
END:STANDARD
END:VTIMEZONE
BEGIN:VEVENT
DTSTART;TZID=Europe/Berlin:20260110T100000
DTEND;TZID=Europe/Berlin:20260110T170000
DTSTAMP:20260425T024856
CREATED:20251218T132017Z
LAST-MODIFIED:20251218T132805Z
UID:3047-1768039200-1768064400@sv-londorf.de
SUMMARY:Neujahrsschiessen Vorderlader
DESCRIPTION:Neujahrsschießen SV Londorf\nam Samstag\, 10.01.2026\n\nModus wie jedes Jahr\, mit Kurz- oder/und Langwaffen\n15 Schuss ohne Probe auf die Ringscheibe\nWichtig: die Jahreszahl treffen – 2026 – \nAlso -2- -10- -2- – 6- \nFür die Jahreszahl reicht der angerissene Ring\nAlle anderen Ringe zählen mit Zentrum\nAußer – die 10 zählt 0\, die 8 dafür doppelt. \nAlle Scheiben mit geschossener Jahreszahl kommen\nin die Pokalwertung – Wanderpokal -OTZI-\nHier zählen alle Schuss die normalen Werte mit\nZentrum \nStartgeld 6\,- €
URL:https://sv-londorf.de/event/neujahrsschiessen-vorderlader/
LOCATION:Schützenhaus Londorf\, Speckwiese 9\, Londorf\, 35466\, Deutschland
END:VEVENT
END:VCALENDAR