BEGIN:VCALENDAR
VERSION:2.0
PRODID:-//SV Londorf 1969 e.V. - ECPv6.15.20//NONSGML v1.0//EN
CALSCALE:GREGORIAN
METHOD:PUBLISH
X-ORIGINAL-URL:https://sv-londorf.de
X-WR-CALDESC:Veranstaltungen für SV Londorf 1969 e.V.
REFRESH-INTERVAL;VALUE=DURATION:PT1H
X-Robots-Tag:noindex
X-PUBLISHED-TTL:PT1H
BEGIN:VTIMEZONE
TZID:Europe/Berlin
BEGIN:DAYLIGHT
TZOFFSETFROM:+0100
TZOFFSETTO:+0200
TZNAME:CEST
DTSTART:20240331T010000
END:DAYLIGHT
BEGIN:STANDARD
TZOFFSETFROM:+0200
TZOFFSETTO:+0100
TZNAME:CET
DTSTART:20241027T010000
END:STANDARD
BEGIN:DAYLIGHT
TZOFFSETFROM:+0100
TZOFFSETTO:+0200
TZNAME:CEST
DTSTART:20250330T010000
END:DAYLIGHT
BEGIN:STANDARD
TZOFFSETFROM:+0200
TZOFFSETTO:+0100
TZNAME:CET
DTSTART:20251026T010000
END:STANDARD
BEGIN:DAYLIGHT
TZOFFSETFROM:+0100
TZOFFSETTO:+0200
TZNAME:CEST
DTSTART:20260329T010000
END:DAYLIGHT
BEGIN:STANDARD
TZOFFSETFROM:+0200
TZOFFSETTO:+0100
TZNAME:CET
DTSTART:20261025T010000
END:STANDARD
END:VTIMEZONE
BEGIN:VEVENT
DTSTART;TZID=Europe/Berlin:20251115T190000
DTEND;TZID=Europe/Berlin:20251115T220000
DTSTAMP:20260425T235503
CREATED:20250418T102338Z
LAST-MODIFIED:20251026T152354Z
UID:2810-1763233200-1763244000@sv-londorf.de
SUMMARY:!!JETZT VORBESTELLEN!!  Forellenessen des ASV „Petri Heil“ Rabenau 1977 e.V. im Schützenhaus Londorf
DESCRIPTION:Forellenessen \nSeid herzlich Willkommen\nLust auf eine leckere fangfrische geräucherte Forelle? Dann seid ihr bei uns genau richtig!\nWir der ASV ‚ Petri Heil’ Rabenau 1977e.V.\nräuchern am 15.11.2024 frische Forellen! Vorbestellung bis 05.11.24\nRäucherforellen können bereits zur Mittagszeit bei uns am See in Deckenbach abgeholt werden. Ihr wisst nicht\, wo ihr uns findet?\noder ihr kommt am 15.11.25\, ab 19:00h\, Schützenhaus Londorf zum gemeinsamen Forellenessen!\nVorbestellungen werden ab sofort persönlich im Schützenhaus oder unter\n(06407) 950216\nentgegen genommen!\nUm besser planen zu können\, bitten wir Euch bei Interesse J E T Z T schon um Vorbestellung! \n 
URL:https://sv-londorf.de/event/forellenessen-des-asv-petri-heil-rabenau-1977-e-v-im-schuetzenhaus-londorf/
LOCATION:Schützenhaus Londorf\, Speckwiese 9\, Londorf\, 35466\, Deutschland
END:VEVENT
END:VCALENDAR