BEGIN:VCALENDAR
VERSION:2.0
PRODID:-//SV Londorf 1969 e.V. - ECPv6.15.20//NONSGML v1.0//EN
CALSCALE:GREGORIAN
METHOD:PUBLISH
X-WR-CALNAME:SV Londorf 1969 e.V.
X-ORIGINAL-URL:https://sv-londorf.de
X-WR-CALDESC:Veranstaltungen für SV Londorf 1969 e.V.
REFRESH-INTERVAL;VALUE=DURATION:PT1H
X-Robots-Tag:noindex
X-PUBLISHED-TTL:PT1H
BEGIN:VTIMEZONE
TZID:Europe/Berlin
BEGIN:DAYLIGHT
TZOFFSETFROM:+0100
TZOFFSETTO:+0200
TZNAME:CEST
DTSTART:20240331T010000
END:DAYLIGHT
BEGIN:STANDARD
TZOFFSETFROM:+0200
TZOFFSETTO:+0100
TZNAME:CET
DTSTART:20241027T010000
END:STANDARD
BEGIN:DAYLIGHT
TZOFFSETFROM:+0100
TZOFFSETTO:+0200
TZNAME:CEST
DTSTART:20250330T010000
END:DAYLIGHT
BEGIN:STANDARD
TZOFFSETFROM:+0200
TZOFFSETTO:+0100
TZNAME:CET
DTSTART:20251026T010000
END:STANDARD
BEGIN:DAYLIGHT
TZOFFSETFROM:+0100
TZOFFSETTO:+0200
TZNAME:CEST
DTSTART:20260329T010000
END:DAYLIGHT
BEGIN:STANDARD
TZOFFSETFROM:+0200
TZOFFSETTO:+0100
TZNAME:CET
DTSTART:20261025T010000
END:STANDARD
END:VTIMEZONE
BEGIN:VEVENT
DTSTART;TZID=Europe/Berlin:20251025T090000
DTEND;TZID=Europe/Berlin:20251025T140000
DTSTAMP:20260426T012532
CREATED:20251014T092514Z
LAST-MODIFIED:20251014T093709Z
UID:2946-1761382800-1761400800@sv-londorf.de
SUMMARY:Arbeitseinsatz am Schützenhaus
DESCRIPTION:Achtung: Alle die noch nicht ausreichend Arbeitsstunden gemacht haben\, sollten diesen Arbeitseinsatz oder eine der kommenden Veranstaltungen nutzen\, um noch zu leistende Arbeitsstunden bis zum Jahresende zu generieren.
URL:https://sv-londorf.de/event/arbeitseinsatz-am-schuetzenhaus/
LOCATION:SV Londorf e.V.\, An der Speckwiese\, Londorf\, 35466
END:VEVENT
END:VCALENDAR